BEGIN:VCALENDAR
VERSION:2.0
PRODID:-//William Land Golf Course - ECPv6.15.20//NONSGML v1.0//EN
CALSCALE:GREGORIAN
METHOD:PUBLISH
X-ORIGINAL-URL:https://williamlandgc.com
X-WR-CALDESC:Events for William Land Golf Course
REFRESH-INTERVAL;VALUE=DURATION:PT1H
X-Robots-Tag:noindex
X-PUBLISHED-TTL:PT1H
BEGIN:VTIMEZONE
TZID:UTC
BEGIN:STANDARD
TZOFFSETFROM:+0000
TZOFFSETTO:+0000
TZNAME:UTC
DTSTART:20250101T000000
END:STANDARD
END:VTIMEZONE
BEGIN:VEVENT
DTSTART;TZID=UTC:20260508T160000
DTEND;TZID=UTC:20260508T200000
DTSTAMP:20260423T104810
CREATED:20260414T170056Z
LAST-MODIFIED:20260420T232846Z
UID:4985-1778256000-1778270400@williamlandgc.com
SUMMARY:Friday Night Pitchers & Pints
DESCRIPTION:Fridays are getting a whole bunch more fun in the park! \n\n\n\nStarting in May\, we’ll be hosting a weekly\, family-friendly event called Pitchers & Pints on every Friday from 4-8pm outside Mulligan’s Cafe. Join us for free food\, drink specials\, games and prizes\, and great company! \n\n\n\nEvery second Friday of the month will be a special tap takeover evening with Urban Roots featuring live musical entertainment and a free drink for LPCA members! Those Fridays are: \n\n\n\nMay 8thJune 12thJuly 10thAugust 14th \n\n\n\nEveryone is welcome at Pitchers & Pints. We hope to see you this summer!
URL:https://williamlandgc.com/event/friday-night-pitchers-pints/
LOCATION:William Land Golf Course\, 1701 Sutterville Rd\, Sacramento\, California\, 95822\, United States
ATTACH;FMTTYPE=image/webp:https://williamlandgc.com/wp-content/uploads/2026/04/FRIDAY-NIGHT-PINTS-4.webp
END:VEVENT
END:VCALENDAR